BEGIN:VCALENDAR
VERSION:2.0
PRODID:-//wp-events-plugin.com//7.2.3//EN
BEGIN:VEVENT
UID:99@whiteemotion.com
DTSTART:20170610T200000Z
DTEND:20170610T200000Z
DTSTAMP:20170529T131601Z
URL:https://whiteemotion.com/events/amazon-blueprint-instalacion-performan
 ce-en-el-jardin-botanico-photoespana/
SUMMARY:Amazon Blueprint - Instalación & Performance en el Jardin Botanico
  Photoespaña
DESCRIPTION:Amazon Blueprint \nInstalación multimedia y performance in-si
 te specific\, en el área donde se encuentra el banco del escultor Frederi
 c Marès en el Real Jardín Botánico de Madrid. Investiga la escultura\, 
 el espacio\, la identidad y el lenguaje a través de la luz\, la imagen y 
 el sonido. Se inspira en el mito clásico de la amazona\, la naturaleza y 
 de las formas modernistas desde el evento multimedia. \nSite Specific per
 formance and multimedia installation to be presented near the bench of the
  sculptor Frederic Marès in the Real Jardín Botánico. It explores the s
 culpture\, space\, language and identity  through light\, image and sound
 . It’s inspired by the classic myth of the Amazon\, the nature and the m
 odernist forms articulated through the multimedia event. \nBlanca Regina 
 Madrid\, 1980\nArtista que trabaja con multiples disciplinas especializada
  en el arte de la proyección y la performance audiovisual. En sus obras e
 xplora temas como el lenguaje\, la identidad\, el archivo y la improvisaci
 ón. Con residencia en Londres es también docente y comisaría. Su trabaj
 o se ha mostrado internacionalmente a través de comisiones\, exhibiciones
  y festivales. \n\nCross disciplinary artist specialised in the art of pr
 ojection and audiovisual performance. She explores themes such as language
 \, identity\, archives and improvisation. Based in London she is also a tu
 tor and a curator. Her work has been presented internationally through com
 missions\, exhibitions and festivals. 
ATTACH;FMTTYPE=image/jpeg:https://whiteemotion.com/web/wp-content/uploads/
 2017/05/amazonblueprint.png
CATEGORIES:Event,improvisation,Istallation,live
 visuals,Videoart,videomapping
LOCATION:Jardin Botanico\,  Plaza de Murillo\, 2\,\, Madrid\,  28014\, Spai
 n
GEO:40.4122193;-3.6919986000000335
X-APPLE-STRUCTURED-LOCATION;VALUE=URI;X-ADDRESS= Plaza de Murillo\, 2\,\, M
 adrid\,  28014\, Spain;X-APPLE-RADIUS=100;X-TITLE=Jardin Botanico:geo:40.4
 122193,-3.6919986000000335
END:VEVENT
END:VCALENDAR