BEGIN:VCALENDAR
VERSION:2.0
PRODID:-//wp-events-plugin.com//7.2.3//EN
BEGIN:VEVENT
UID:79@whiteemotion.com
DTSTART:20161201T190000Z
DTEND:20161230T220000Z
DTSTAMP:20161019T201637Z
URL:https://whiteemotion.com/events/art-woo-enter-the-anthropocene-exhibit
 ion-opening-reception/
SUMMARY:Art Woo: 'Enter the Anthropocene' - Exhibition Opening Reception
DESCRIPTION:Group show that features some of the new prints and artwork by 
 Blanca Regina. There will be a performance at the private view by Regina a
 nd Steve Beresford\n\nArt Woo: 'Enter the Anthropocene'\n\n"Look on light
  and consider its beauty. Shut your eyes\, and look again: that which you 
 see was not there before\, and that which was\, no longer is. Who is he wh
 o remakes it if the producer is continually dying?" - Leonardo da Vinci\n\
 nHuman activities have had a permanent global impact on planet Earth's geo
 logy and ecosystems. The rocks under our feet have changed. 'Enter the Ant
 hropocene'\, featuring Pablo A. Padilla Jargstorf\, Sophie O'Leary\, Blanc
 a Regina and TAZ\, is an art and sound exhibition curated for a post- clim
 ate\, post-truth world. Fractal and sonic architecture emits the emotions 
 humans used to have. Nature is an endangered species guarded by an esoteri
 c ecology in a world where botanical gardens have the serenity of sacred g
 raveyards. Multimedia interruptions reconstruct and repackage the previous
  epoch as sound and TV for the remnants of society\; the planet is populat
 ed by figurine shadows daydreaming the highlights of a fantasy life while 
 their DNA reorganises.\n\nThe Private View will include live performance b
 y Blanca Regina (voice and electronics ) and Steve Beresford (electronics 
 and objects).\n\nArt Woo: 'Enter the Anthropocene' artists:\n\nPablo A. Pa
 dilla Jargstorf\, born in Madrid in1975\, is an architect\, visual/sound a
 rtist and composer. After starting his formal music education at a very yo
 ung age\, with piano as his primary instrument\, towards the end of the 19
 90s he began to experiment with sound art and composition\, while completi
 ng his architecture studies. He is currently continuing to develop his wor
 k on soundscapes\, video / sound installations\, researching the relations
 hip between the different stimuli of our senses and their interaction\, wi
 th a focus on spatial perception through sound and synaesthesia.www.jargst
 orf.com\n\nSophie O’Leary creates charismatic\, intensely hued and emoti
 ve paintings\, using collage\, oils\, pastels and watercolours. Sophie’s
  sensitively harmonic\, abstract compositions are inspired by her esoteric
  experiences of nature and music. Early Theosophist artists such as Kandin
 sky\, Klee and Af Klint are also a source of insight. Her interest in tran
 scendent energy and spirit over the mundane\, has a resonance which reache
 s beyond the conscious mind and gives form to her work. https://www.facebo
 ok.com/Sophie-OLeary-Art-1623040251246279/\n\nTAZ. After a degree in fine 
 arts and various experiments in different techniques (graffiti\, comics\, 
 street art\, fine painting etc.) TAZ settled on drawings and watercolours.
  His characters\, created by a deep imagination and very often wearing bir
 d heads mosquito noses\, have attracted loads of attention among art lover
 s across Europe.\n\nBlanca Regina is an artist\, teacher and curator based
  in London. Her research and practice are heterogeneous and encompass expa
 nded cinema\, free improvisation\, graphic and moving image\, photography 
 and performance art. She has performed with various artists\, including Te
 rry Day\, Leafcutter John\, Beresford and Matthias Kispert and curated a n
 umber of events and installations in London and internationally.www.whitee
 motion.com\n\nOrganised and framed by Happenstance Art &amp\; Framing Gall
 ery\n\nSave the date in your diary - Thursday the 1st of December - Openin
 g Night. The exhibition will then last till the end of December\n\n&nbsp\;
 \n\n
ATTACH;FMTTYPE=image/jpeg:https://whiteemotion.com/web/wp-content/uploads/
 2016/10/23407676386_81d472501e_z.jpg
LOCATION:Flaxon Ptootch\, 237 Kentish Town Road\, London\, NW5 2JT \, Unite
 d Kingdom
GEO:51.54803820000001;-0.14142770000000837
X-APPLE-STRUCTURED-LOCATION;VALUE=URI;X-ADDRESS=237 Kentish Town Road\, Lon
 don\, NW5 2JT \, United Kingdom;X-APPLE-RADIUS=100;X-TITLE=Flaxon Ptootch:
 geo:51.54803820000001,-0.14142770000000837
END:VEVENT
END:VCALENDAR