BEGIN:VCALENDAR
VERSION:2.0
PRODID:-//wp-events-plugin.com//7.2.3//EN
BEGIN:VEVENT
UID:158@whiteemotion.com
DTSTART;TZID=Europe/London:20200201T153000
DTEND;TZID=Europe/London:20200201T210000
DTSTAMP:20200121T235444Z
URL:https://whiteemotion.com/events/narrando-estructuras-taller-de-videoma
 pping-en-madrid-2/
SUMMARY:Narrando Estructuras: taller de Videomapping en Madrid
DESCRIPTION:\n\nFechas\nSábado 1 Febrero: 15.30 a 21pm\nDuración 5 horas 
 + pausa de media hora\n\nLugar\nPaisajes Españoles\nMarqués de Monteagud
 o 22\n3a Planta 28028 Madrid\n\nNº Maximo de Estudiantes: 4\n\nLink para 
 reservas https://unpredictable.bigcartel.com/product/tallerdevideomapping\
 n\nDirigido a\nEl taller está orientado a las disciplinas de artes visual
 es\, procesos\, diseño gráfico\, arquitectura y otras disciplinas afines
 . Asimismo en personas interesadas en otras técnicas y aplicaciones de la
  imagen en movimiento y videomapping. Además\, el taller analizará el tr
 abajo de diferentes artistas\, sus técnicas y sus métodos de creación\,
  y los propios alumnos podrán desarrollar sus trabajos sobre maquetas y e
 spacios arquitectónicos.\n\nDescripción\nEl curso está centrado en la t
 écnica de videomapping y el concepto de proyección más allá de la pant
 alla. El taller es teoríco- práctico. Desarrollamos la técnica de proye
 cción de imagen y su aplicación en instalaciones y performances. Enseña
 remos cómo proyectar simultáneamente en diferentes superficies con difer
 entes motivos e imágenes en movimiento\, así como la producción de cont
 enido y su aplicación práctica usando MadMapper4. Investigamos la imagen
  proyectada no sólo como técnica sino como forma artística y lenguaje. 
 Este taller está apoyado por MadMapper. Con la inscripción se incluye un
 a licencia educacional de MadMapper por 1 mes.\n\nObjetivos\nEste taller i
 ntroduce la técnica de videomapping y propone investigar y reflexionar so
 bre el concepto de la imagen proyectada más allá de la pantalla.\n\nRequ
 erimientos técnicos\nEste taller está orientado a usuarios de Mac y PC.\
 nTrae tu computadora con adaptadores de Mini DisplayPort si usas Mac\nSi u
 sas mac con sistema operativo Osx 10.7 o superior 10.6 no\nTrae si tienes 
 controlador midi\, proyector\, modelo / forma en el que desea mapear\, si 
 bien nosotros proveemos superficies y proyectores.\nSi necesita alquilar c
 omputadora para realizar el taller\, ponte en contacto.\nEste taller inclu
 ye una licencia temporal de acceso completo de 1 mes de MadMapper y otorga
  a los participantes un descuento educativo en la compra del software MadM
 apper.\n\nSemblanza del tutor\n\nEste taller está impartido por Blanca Re
 gina\, artista visual\, docente y comisaria.\nSu trabajo se centra en la c
 reación audiovisual y performance\, videoarte\, arte digital con técnica
 s analógicas\, cine “ expandido “ e improvisación en directo.\nEntre
  los centros y espacios donde ha mostrado su trabajo se encuentran La Casa
  Encendida\, (España)\, Photoespaña\, Mapping (Ginebra)\, Barbican (Lond
 res) VisionR (Paris)\, Maus Habitos (Oporto) Loop Videoart Festival y Gale
 ríaa H2O (Barcelona)\, MUPO (Oaxaca\, México).\n\nConsulta El VJ y la cr
 eación audiovisual performativa: hacia una estética radical de la postmo
 dernidad. Tesis Blanca Regina\, 2011 Link https://eciencia.urjc.es/bitstre
 am/handle/10115/5325/Libro_tesisBlanca-Final2011.pdf\;jsessionid=9C70D85FF
 5ED81CF8A3A41C17F128D60?sequence=1\n\n
ATTACH;FMTTYPE=image/jpeg:https://whiteemotion.com/web/wp-content/uploads/
 2018/10/29167059293_0c07bd2e93_k.jpg
CATEGORIES:Event,workshop
LOCATION:Paisajes Españoles\, Marqués de Monteagudo 22\, Madrid\, 28028 \
 , Spain
X-APPLE-STRUCTURED-LOCATION;VALUE=URI;X-ADDRESS=Marqués de Monteagudo 22\,
  Madrid\, 28028 \, Spain;X-APPLE-RADIUS=100;X-TITLE=Paisajes Españoles:ge
 o:0,0
END:VEVENT
BEGIN:VTIMEZONE
TZID:Europe/London
X-LIC-LOCATION:Europe/London
BEGIN:STANDARD
DTSTART:20191027T010000
TZOFFSETFROM:+0100
TZOFFSETTO:+0000
TZNAME:GMT
END:STANDARD
END:VTIMEZONE
END:VCALENDAR