BEGIN:VCALENDAR
VERSION:2.0
PRODID:-//wp-events-plugin.com//7.2.3//EN
BEGIN:VEVENT
UID:174@whiteemotion.com
DTSTART;TZID=Europe/London:20220604T000000
DTEND;TZID=Europe/London:20220605T180000
DTSTAMP:20220512T161300Z
URL:https://whiteemotion.com/events/narrating-structures-intensive-videoma
 pping-workshop/
SUMMARY:Narrating Structures\, Intensive Videomapping Workshop
DESCRIPTION:‘Narrating Structures’ Videomapping workshop is an intensiv
 e workshop led by Dr Blanca Regina. We introduce projection mapping and im
 mersive space design in a hands-on weekend workshop in the centre of Londo
 n. In this workshop\, we will look at diverse techniques for producing aud
 iovisual projects in architectural spaces and objects and their applicatio
 n in artistic and creative practice.\n\nWhere: Ugly Duck 47/49 Tanner Stre
 et SE1 3PL\nWhen: Sat 4th &amp\; Sunday 5th\, June 2022 From 12 pm (noon)
  to 6 pm.\nTickets and price - 15 people maximum - £160 for the weekend\n
 \nPROGRAMME\n\n\nThe 2-day workshop is presented in sections with hands-on
  practice.\n\n1st Session &gt\;&gt\; Saturday\n– Introduction to the men
 tors and presentation of their work in this field.\n– Study multiple vid
 eo mapping projects.\n(Lunch break)\n- Introduction to MadMapper 5\n- Hand
 s-on\n- Projection mapping on different surfaces.\n- Hands-on\n\n2nd Sessi
 on &gt\;&gt\; Sunday\n- Recap and Questions.\n- Technical specifications.\
 n- Syphon and OBS\n- Introduction to Key\, Midi\, and OSC Controls with Ma
 dMapper.\n- Hands-on\n(Lunch break)\n- Creating content and live technique
 s for performances\, installations\, and streaming\n- Creation and present
 ation of a specific project.\n- Hands-on\n- Short demos by participants an
 d closing considerations.\n\nAt the end of this workshop you will be able 
 to:\n– Create various projections simultaneously\n– Shape light into o
 bjects and spaces\n– Learn how to stream your mapping content into a str
 eaming service.\n– Project management and networking with local and inte
 rnational communities.\n\nThis workshop is for artists\, graphic designers
 \, architects\, and anybody interested.\nSupported by Garage Cube &amp\; M
 adMapper\n\nTech requirements:\n\nThe workshop provides one projector per 
 student and includes a 1-month full access temporal license of MadMapper a
 nd entitles the participants to an educational discount on MadMapper softw
 are purchases.\n\nBring your computer with mini display port adaptors if y
 ou use Mac. This workshop is oriented to Mac and PC users. A Mac laptop wi
 th Osx 10.7 is recommended. 10.6 is not supported.\nYou can bring also If 
 you have\, a midi controller\, projector\, model/shape you want to map on\
 , or Minimad)\nIf you need to rent any equipment (computer) for the worksh
 op please do get in touch.\n\nAbout the mentors\n\nDr Blanca Regina Pérez
 -Bustamante is an artist\, independent curator\, and educator based in Lon
 don. She is currently creating audiovisual performances\, sound works\, in
 stallations\, and films. Her research and practice encompass video mapping
 \, sound art\, moving images\, performance\, and multimedia events.\n\nShe
  has taught more than 30 video mapping workshops worldwide including Ugly 
 Duck since 2018 in London. In 2019\, she developed the research project 
 ‘ Immersive Pipeline’ at Goldsmiths University\, looking at immersive 
 audiovisual environments and translating artworks to multiple digital form
 ats. She is the founder of Unpredictable Series and has curated a series o
 f sound and visual art events in London at Cafe OTO\, OTO Projects\, Iklec
 tik\, Ray’s Jazz at Foyles\, Waterstones\, and Portland Hall (CREAM/the 
 University of Westminster). Supporters of our projects include Cream\, Cri
 sap\, Sound &amp\; Music\, and Arts Council England.\n\nShe is currently a
  lecturer at Ravensbourne University\, London. From 2014 to 2021 she was a
 n associate lecturer at the Event and Experience Design department at the 
 University of Kent. From 2011-to 2014 she was visiting research fellow at 
 Chelsea College of Arts &amp\; Design at the University of the Arts London
 . In 2010\, she received a doctorate in Humanities from University Rey Jua
 n Carlos\, Madrid\, with the thesis: The VJ and audiovisual performance: t
 owards a radical aesthetic of postmodernism.\n\nwww.whiteemotion.com\n\nPi
 erre Bouvier Patron\n\nPierre Bouvier Patron is a visual artist based in L
 ondon. He is currently working with different media\, such as digital vide
 o and film\, exploring the boundaries between them and creating moving ima
 ge works\, performances\, and installations. He has developed various prac
 tices and skills in experimental film\, documentary films\, music videos\,
  etc.\n\nHe is involved in video screenings and video performances\, solo 
 or in collaboration\, with musicians such as Syd Kemp\, Steve Beresford\, 
 Neil Charles\, and artist Blanca Regina\, among others. His work has been 
 shown in France\, Spain\, the United Kingdom\, Mexico\, Germany\, etc.\n\n
 His latest works include Unpredictable: Conversations with Improvisers\, a
  series of 12 videos about improvisers in the UK\, and music videos for Be
 n Marc. His work also includes extensive participation with collectives su
 ch as Unpredictable Series\, Strange Umbrellas\, and several festivals suc
 h as Sonic Waterloo\, Art of Improvisers\, and Alterations Festivals.\n\n
ATTACH;FMTTYPE=image/jpeg:https://whiteemotion.com/web/wp-content/uploads/
 2022/05/flyervideomapping2022June.jpg
CATEGORIES:workshop
LOCATION:Ugly Duck\, 47/49 Tanner Street\, London\, London\, SE1 3PL\, Unit
 ed Kingdom
X-APPLE-STRUCTURED-LOCATION;VALUE=URI;X-ADDRESS=47/49 Tanner Street\, Londo
 n\, London\, SE1 3PL\, United Kingdom;X-APPLE-RADIUS=100;X-TITLE=Ugly Duck
 :geo:0,0
END:VEVENT
BEGIN:VTIMEZONE
TZID:Europe/London
X-LIC-LOCATION:Europe/London
BEGIN:DAYLIGHT
DTSTART:20220327T020000
TZOFFSETFROM:+0000
TZOFFSETTO:+0100
TZNAME:BST
END:DAYLIGHT
END:VTIMEZONE
END:VCALENDAR