BEGIN:VCALENDAR
VERSION:2.0
PRODID:-//wp-events-plugin.com//7.2.3//EN
BEGIN:VEVENT
UID:167@whiteemotion.com
DTSTART;TZID=Europe/London:20210504T100000
DTEND;TZID=Europe/London:20210511T160000
DTSTAMP:20210426T113125Z
URL:https://whiteemotion.com/events/narrating-structures-masterclass-at-ra
 vensbourne-university-2021/
SUMMARY:Narrating Structures Masterclass at Ravensbourne University 2021
DESCRIPTION:‘Narrating Structures’ is an intensive workshop led by Dr. 
 Blanca Regina where we introduce projection mapping and immersive space de
 sign We will look at the art of projection history and diverse techniques 
 for the production of audiovisual projects in architectural spaces and obj
 ects and also their application in artistic and creative practice. The wor
 kshop is supported by MadMapper www.madmapper.com\n\nDates: 4 and 11 of Ma
 y 2021\, from 10 am to 4 pm\n\nPROGRAMME \n\nThe content of the workshop 
 is as follows 1- Introduction to the mentor and presentation of their work
  in this field. 2- Study of multiple video mapping projects. 3- Learning m
 ultiple techniques and applying them using the different spaces and struct
 ures. 4-  Introduction to Madmappeer 4\, Projection mapping on different 
 surfaces. 5- Presentation on methods and tips for visual content productio
 n. 6 – Midi/OSC routing  8 – Syphon 9- Interactivity  10- Creation a
 nd presentation of a specific group project.\n\nAt the end of this worksho
 p\, you will be able to: – Create various projections simultaneously –
  Shape light into objects and spaces – Project management and networking
 \n\nTECHNICAL REQUIREMENTS\n\nBring your own computer. This workshop is or
 iented to Mac and PC users. A mac laptop with osx 10.7 is recommended. 10.
 6 is not supported. You can bring also If you have\, midi controller\, pro
 jector\, model/shape you want to map on\, DMX controller (Artnet\, Enttec 
 or minimad)\n\nBIO\n\nDr. Blanca Regina is an artist\, curator\, and tutor
  based in London who is currently involved in creating audiovisual perform
 ances\, sound works\, multimedia installations\, photography\, and book ar
 ts. She has been leading audiovisual performance art and projection mappin
 g workshops plus curated events internationally\; Unpredictable Series in 
 the U.K\, Mademotion in Spain and LED in Mexico. In 2014\, she joined the 
 School of Music &amp\; Fine Art at the University of Kent. For several yea
 rs after receiving her Ph.D. in Humanities in Madrid\, Spain she was a res
 earch fellow at Chelsea College of Art and Design\, London (2011-14) Expan
 ded and Ephemera Audiovisuals was her first solo exhibition presented in 
 México\, 2015. She is interested in the themes of language\, identity\, a
 nd archive\, she is exploring the interplay of image and sound\, digital a
 nd analog media. She has created some films and music with artists\, inclu
 ding David Toop\, Leafcutter John\, Steve Beresford\, Sharon Gal\, Mandhir
 a de Saram\, Adriana Camacho\, and Matthias Kispert. Her work has been sup
 ported by Arts Council England\, Sound &amp\; Music\, BMC\, Amexcid\, Phot
 o-España\, and Garage Cube. The last research includes the Immersive Pipe
 line Project funded by AHRC Computing Department at Goldsmiths University 
 London with Prof. Atau Tanaka. Recent music works include ‘Duets with Bl
 anca Regina\, Spontaneous Music’ released on Unpredictable Series. Blanc
 a is currently convenor of Immersive Space Design at the Centre for Music 
 and Audio Technology\, University of Kent. www.whiteemotion.com\n\nOnly fo
 r Ravensbourne students.\n\n&nbsp\;
ATTACH;FMTTYPE=image/jpeg:https://whiteemotion.com/web/wp-content/uploads/
 2020/10/7BlancaRegina.jpg
CATEGORIES:workshop
LOCATION:Ravensbourne\, 6 Penrose Way\, London\, SE10 0EW\, United Kingdom
GEO:51.5017355;0.0055388000000675675
X-APPLE-STRUCTURED-LOCATION;VALUE=URI;X-ADDRESS=6 Penrose Way\, London\, SE
 10 0EW\, United Kingdom;X-APPLE-RADIUS=100;X-TITLE=Ravensbourne:geo:51.501
 7355,0.0055388000000675675
END:VEVENT
BEGIN:VTIMEZONE
TZID:Europe/London
X-LIC-LOCATION:Europe/London
BEGIN:DAYLIGHT
DTSTART:20210328T020000
TZOFFSETFROM:+0000
TZOFFSETTO:+0100
TZNAME:BST
END:DAYLIGHT
END:VTIMEZONE
END:VCALENDAR