BEGIN:VCALENDAR
VERSION:2.0
PRODID:-//wp-events-plugin.com//7.2.3//EN
BEGIN:VEVENT
UID:44@whiteemotion.com
DTSTART:20150725T000000Z
DTEND:20150726T200000Z
DTSTAMP:20150622T152341Z
URL:https://whiteemotion.com/events/narrating-structures-workshop-25th-26t
 h-july-in-london/
SUMMARY:‘Narrating Structures‘ workshop 25th – 26th July in London
DESCRIPTION:‘Narrating Structures ’ Intensive Videomapping Workshop 7th
  Edition\n\nAt Apiary Studios\, London 25th to 26th JULY 2015.\n\n	Led: Bl
 anca Regina www.whiteemotion.com  &amp\; Gorka Cortázar http://tecnecoll
 ective.com/\n	Dates: Saturday 25th &amp\; Sunday the 26th July 2015\, From
  12 to 8 pm. Break 3 to 4pm\n	Place : Apiary Studios (Studio 1)  458 Hack
 ney Road\, E2 9EG www.apiarystudios.org\n	Hours: 14 hours\n	Student fee: 
  £160  (Max nº of students:12)\n	Information and registration info@mad
 emotion.net\n\n\n	Organized by www.mademotion.net in collaboration with ht
 tp://tecnecollective.com/\n	With the support of : Mad Mapper http://www.ma
 dmapper.com/ \, Modul8 http://www.garagecube.com/\n\n_____________________
 ___________________________________________________\n\n‘Narrating Struct
 ures’ is an intensive workshop where we introduce projection mapping.  
 We will look at diverse techniques for the production of audiovisual proje
 cts in architectural spaces and objects and also its application in artist
 ic and creative work\n\nThe 2 day workshop is divided in 6 sections.\n\n1-
  Introduction. ‘Son et lumiere’\, live cinema\, videomapping installat
 ion.\n\n2- Study of multiple video-mapping projects.\n\n3- Learning multip
 le techniques and applying them using the different spaces and structures.
  The use of 2D a 3D projection mapping.\n\n4- Projection mapping on differ
 ent surfaces.\n\n5- Control lights with Madmapper.\n\n6- Creation and pres
 entation of a specific group project.\n\nAt the end of this workshop you w
 ill be able to create various projections simultaneously\,  shape light i
 nto objects and spaces\, project manage and connect with local and interna
 tional communities.This workshop is for visual artists\, graphic designers
 \, architects and anybody interested.\n\nLINK to PDF\n\nTech requirements:
 \n\nBring your own computer.This workshop is oriented to Mac users. A mac 
 laptop with osx 10.7 is recommended. 10.6 is not supported.\n\nYou can bri
 ng also If you have\, midi controller\, projector\, model/shape you want t
 o map on\,  DMX controller (Artnet\, Enttec or minimad)\n\nAbout the ment
 ors:\n\nDr. Blanca Regina Pérez-Bustamante is an educator\, artist and cu
 rator\, based in London.\n\nShe is involved in creating mixed media perfor
 mances\, installations and film and is currently teaching at the School of
  Fine Arts and Music in the University of Kent.\n\nHer research and practi
 ce encompass expanded cinema\, free improvisation\, moving image\, photogr
 aphy and audiovisual performance.  She has published various texts and co
 nducted several workshops and talks internationally focusing on Audiovisua
 l\, New Media and Performance Art (Universidad de Puerto Rico\, University
  of Canterbury\, Goldsmiths University\, Festival Internacional de Cine de
  las Palmas\, La Creación Electrónica\, La Casa Encendida) and she has p
 resented several conferences with AVAcademy in Moscow and St. Petersburg (
 Russia).\n\nShe is curator at the Live Cinema Foundation and Strange Umbre
 llas. With Matthias Kispert she founded the Material Studies Group\, devel
 oping a series of workshops and performances around the production of soun
 d with everyday objects. In 2012\, with Steve Beresford\, she started Stra
 nge Umbrellas\, a platform for free improvised music and visual art. Her p
 erformances include collaborations with artists such as Leafcutter John\, 
 Steve Beresford and Matthias Kispert. Current works in development include
  Unpredictable\, a film about Terry Day.\n\nGorka Cortázar is a Venezuela
 n programmer and digital artist\, currently based in Madrid.\n\nAfter stud
 ying sociology\, Gorka started a successful career in the technology world
 \, focussing on providing creative solutions to communicational problems t
 hrough computers. During his 12 years career at Merlin (one of the most in
 novative technology companies in Latin America) he advised on projects for
  global brands like Warner Channel\, Sony Entertainment Television\, AXN\,
  Santander Bank and Movistar.\n\nIn 2008 he founded Tecné Collective with
  Rodrigo Arcaya\, to explore the boundaries between technology and art. Wi
 th Tecné Collective\, he specialized in real time generative art\, applie
 d through projection mapping and architectural lighting.\n\nTecné Collect
 ive shows and installations have been recently featured in Miami\, Norfolk
 \, Madrid\, Bilbao\, Helsinki\, Oulu\, Copenhagen\, Aarhus\, Oslo\, Eindho
 ven\, Sao Paulo\, and Mexico D.F. In the following months they have new in
 stallations scheduled in Baku\, Doha and Helsinki.\n\nHe teaches workshops
  about programming\, generative art and projection mapping in various inst
 itutions\, in Madrid\, London\, Sao Paulo and Mexico.\n\n&nbsp\;\n\n\n\n&n
 bsp\;
ATTACH;FMTTYPE=image/jpeg:https://whiteemotion.com/web/wp-content/uploads/
 2015/06/videomappingworkshop7.jpg
CATEGORIES:live visuals,videomapping,workshop
LOCATION:Apiary Studios\,  458 Hackney Road\, london\, E29EG\, United Kingd
 om
GEO:51.5321894;-0.059050100000035854
X-APPLE-STRUCTURED-LOCATION;VALUE=URI;X-ADDRESS= 458 Hackney Road\, london\
 , E29EG\, United Kingdom;X-APPLE-RADIUS=100;X-TITLE=Apiary Studios:geo:51.
 5321894,-0.059050100000035854
END:VEVENT
END:VCALENDAR