BEGIN:VCALENDAR
VERSION:2.0
PRODID:-//wp-events-plugin.com//7.2.3//EN
BEGIN:VEVENT
UID:129@whiteemotion.com
DTSTART;TZID=Europe/London:20180610T000000
DTEND;TZID=Europe/London:20180610T013000
DTSTAMP:20180529T183844Z
URL:https://whiteemotion.com/events/radio-show-at-resonance-fm-w-ambrosia-
 rasputin/
SUMMARY:Radio Show at Resonance FM w/ Ambrosia Rasputin
DESCRIPTION:I will join Ivor Kallin aka Ambrosia Rasputing at his programm
 e on Resonance Fm on the 10th of June from noon to 1.30pm\n\nI will play m
 y favourite recordings and things I've been involved in and will perform l
 ive!\nIf you want to get a flavour of previous shows\, go to resonancefm.c
 om \n\n&lt\;iframe width="100%" height="120" src="https://www.mixcloud.co
 m/widget/iframe/?hide_cover=1&amp\;feed=%2FResonance%2Fthe-ambrosia-rasput
 in-show-27th-may-2018%2F" frameborder="0" &gt\;&lt\;/iframe&gt\;\n
ATTACH;FMTTYPE=image/jpeg:https://whiteemotion.com/web/wp-content/uploads/
 2015/06/corazonporblancaregina.jpg
LOCATION: The Hive Project\, Unit 2A Queen’s Yard\, White Post Lane\; \, 
 London \, E9 5EN\, Hackney Wick \, United Kingdom
GEO:51.5424892;-0.02326349999998456
X-APPLE-STRUCTURED-LOCATION;VALUE=URI;X-ADDRESS=Unit 2A Queen’s Yard\, Wh
 ite Post Lane \, London \, E9 5EN\, Hackney Wick \, United Kingdom;X-APPLE
 -RADIUS=100;X-TITLE= The Hive Project:geo:51.5424892,-0.02326349999998456
END:VEVENT
BEGIN:VTIMEZONE
TZID:Europe/London
X-LIC-LOCATION:Europe/London
BEGIN:DAYLIGHT
DTSTART:20180325T020000
TZOFFSETFROM:+0000
TZOFFSETTO:+0100
TZNAME:BST
END:DAYLIGHT
END:VTIMEZONE
END:VCALENDAR