BEGIN:VCALENDAR
VERSION:2.0
PRODID:-//wp-events-plugin.com//7.2.3//EN
BEGIN:VEVENT
UID:121@whiteemotion.com
DTSTART:20180420T193000Z
DTEND:20180420T233000Z
DTSTAMP:20180403T221127Z
URL:https://whiteemotion.com/events/scope-presents-the-pond-defasten-blanc
 a-regina-440-berlin/
SUMMARY:SCOPE presents at SPEKTRUM\, Berlin : The Pond / Defasten / Blanca 
 Regina #440 \, Berlin
DESCRIPTION:Doors: 19:30\nStart time: 20:00 - sharp\nEntrance: 7-12 € (up
  to your offer)\nWeb\n\nAudiovisual performance night with:\n\nThe Pond\nE
 lisabetta Lanfredini - voice\, composition / Nicolas Wiese - voice manipul
 ation\, feedback\, composition. A vocal-electroacoustic panorama between m
 elodic fragments\, noise\, surreal atmospheres\, improvised parts\, and fl
 ashbacks into early music.\n\nDEFASTEN - Bodyjack\nVideo animation collabo
 ration between Patrick Defasten Doan and composer and multi-media artist S
 uguru Goto. A dive into a data-complex\, alive and reactive in its virtual
  presence. Geometric layers morph and reshape this volatile data-structure
 .\n\nBianca Regina - Triple Loop\nUsing advinatory systems and audience pa
 rticipation\, Bianca Regina transports and transforms us with her voice\, 
 electronics\, objects and visuals by creating audiovisual performances of 
 each consultation made to the oracles\, either moon tarot\, fortune cookie
 s\, I Ching or tea leaves.\n\nEvent organised by SCOPE - curated by AudeRr
 ose\n\nNicolas Wiese is an audiovisual artist\, designer and composer/perf
 ormer of electroacoustic music. He lives and works in Berlin since 2006.
  Wiese studied illustration\, communication design and communication the
 ory at the University of Applied Sciences in Hamburg (diploma 2005). Fur
 ther studies: sound art at the University of Arts Berlin\; philosophy an
 d sociology at the University of Hamburg. Wiese creates works in differe
 nt formats and media\, for various contexts – installation and spatial
  performance\, contemporary electronic composition\, relational and improv
 ised music\, graphic art\, drawing\, collage\, radio and experimental fi
 lm. http://nicolaswiese.com\n\nElisabetta Lanfredini is a singer\, improvi
 ser\, performer and educator based in Berlin. She started music studies in
  early age studying jazz singing and improvisation. She deepened the weste
 rn vocal technique studying baroccosinging for two years and she studied s
 everal folk traditional music like Dhrupad singing (North Indian Music)\, 
 Nada and Mantra Yoga (Yoga of the sound)\, kurdish Dengbej style and turki
 sh folk music. http://www.elisabettalanfredini.com\n\nPatrick Defasten Doa
 n is a Canadian artist living in Berlin\, Germany. He has created content 
 under the form of digital animations\, still graphics\, short films\, live
  audiovisual concerts and installations. With a deep interest in design\, 
 film\, music\, science-fiction and the contemporary arts\, his works fall 
 at the intersection of geometric abstraction\, (non)-narrative cinema\, an
 d hard digital aesthetics. He is a member of the sonic research cell AUDIN
 T. http://www.defasten.com\n\nSuguru Goto is a media artist\, an inventor 
 and a performer and he is considered one of the most innovative and the mo
 uthpiece of a new generation of Japanese artists. He is highly connected t
 o technical experimentation in the artistic field and to the extension of 
 the existing potentialities in the relation of man-machine. In his works\,
  the new technologies mix in interactive installations and experimental pe
 rformances\; he invented the so-called virtual music instruments\, able to
  create an interface for the communication between human movements and the
  computer\, where sound and video image are controlled by virtual music in
 struments in real-time through computers. http://www.sugurugoto.com\n\nBla
 nca Regina is an artist based in London who is currently involved in creat
 ing audiovisual performances\, sound works\, installations and film. She h
 as performed with numerous artists\, including Leafcutter John\, Steve Ber
 esford\, David Toop and Matthias Kispert\, and curated a number of events 
 and installations internationally. www.whiteemotion.com
ATTACH;FMTTYPE=image/jpeg:https://whiteemotion.com/web/wp-content/uploads/
 2018/04/21192332_849838618516974_1964826683186592746_n.jpg
CATEGORIES:action,Art,Concert,improvisation,Improvisation/Sound Art,live
 visuals,performance
LOCATION:SPEKTRUM | art science community\, Bürknerstraße 12\, Berlin\, 1
 2047 \, Germany
GEO:52.4931978;13.423039900000049
X-APPLE-STRUCTURED-LOCATION;VALUE=URI;X-ADDRESS=Bürknerstraße 12\, Berlin
 \, 12047 \, Germany;X-APPLE-RADIUS=100;X-TITLE=SPEKTRUM | art science comm
 unity:geo:52.4931978,13.423039900000049
END:VEVENT
END:VCALENDAR