BEGIN:VCALENDAR
VERSION:2.0
PRODID:-//wp-events-plugin.com//7.2.3//EN
BEGIN:VEVENT
UID:127@whiteemotion.com
DTSTART;TZID=Europe/London:20180602T190000
DTEND;TZID=Europe/London:20180602T190000
DTSTAMP:20180529T181706Z
URL:https://whiteemotion.com/events/sunrise1927-steve-beresford-blanca-reg
 ina-paul-khimasia-morgan/
SUMMARY:Sunrise(1927) Steve Beresford/Blanca Regina/Paul Khimasia Morgan
DESCRIPTION:SUNRISE (1927) with an original live soundtrack from Steve Bere
 sford\, Blanca Regina and Paul Khimasia Morgan\n\n(RESCHEDULED FROM MARCH)
 \n\nTickets available from Kino-Teatr box office and online from ticketsou
 rce : https://www.ticketsource.co.uk/date/480901\n\nA married farmer fall
 s under the spell of a femme fatale from the city\, who tries to convince 
 him to drown his wife\, but desperation and turmoil ensues…\n\nSunrise d
 eals with risqué themes such as obsession\, temptation\, lust and ultimat
 ely\, redemption. A naïve countryman living an idyllic\, bucolic lifestyl
 e with his wife and their young child. The serenity is shattered when a be
 autiful femme fatale from the city enters his life. He soon falls in love 
 with her\, aware for the first time that there may be more to the world th
 an the life he has settled for. As their secret passion intensifies\, the 
 femme fatale convinces the countryman to kill his wife so they can be toge
 ther forever. The countryman is then forced into a nightmarish decision…
 \nMurnau was given complete artistic freedom by his financier William Fox 
 and he took full advantage. Sunrise is full of cutting edge special effect
 s\, mammoth sets\, and a feeling of experimentalism that doesn’t get in 
 the way of the narrative. Fox’ investment paid off\; at the very first A
 cademy Awards in 1928\, Sunrise won three Oscars\; for Unique And Artistic
  Picture\, Jane Gaynor won Best Actress\, and Charles Rosher and Karl Stru
 ss for their ground-breaking cinematography.\n\nSteve Beresford is a well-
 known member of the London improvising scene since the 1970s. He has featu
 red on a large number of recordings of improvised music and been involved 
 with Alterations\, Imitation Of Life\, Derek Bailey’s Company events and
  with the Portsmouth Sinfonia. Beresford has continued to play free improv
 isation with a number of prominent musicians including Evan Parker\, John 
 Zorn and Han Bennink.\nBlanca Regina is an artist\, teacher and curator cu
 rrently involved in creating audio-visual performances\, sound-works\, ins
 tallations and film. Her research and practice encompass sound art\, free 
 improvisation\, moving image\, live events\, electronic music and performa
 nce. She is co-founder of the Live Cinema Foundation.\nPaul Khimasia Morga
 n is an improviser drawn to working with unorthodox instrumentation and te
 chnique. He has worked in collaboration with Dan Powell as Brambling\, and
  with sound artists Simon Whetham\, Michael Fairfax and Joseph Young. His 
 latest solo cd was released by Confront. He curates Aural Detritus Concert
  Series\, manages The Slightly Off Kilter Label and writes for The Sound P
 rojector.
ATTACH;FMTTYPE=image/jpeg:https://whiteemotion.com/web/wp-content/uploads/
 2018/05/29196341_961475987351377_4554510043688468480_o.jpg
LOCATION:KINO-TEATR\,  43-49 Norman Road \,  St Leonards\, TN38 0EQ\, St Le
 onards on Sea East Sussex\, United Kingdom
GEO:50.8522113;0.5597172999999884
X-APPLE-STRUCTURED-LOCATION;VALUE=URI;X-ADDRESS= 43-49 Norman Road \,  St L
 eonards\, TN38 0EQ\, St Leonards on Sea East Sussex\, United Kingdom;X-APP
 LE-RADIUS=100;X-TITLE=KINO-TEATR:geo:50.8522113,0.5597172999999884
END:VEVENT
BEGIN:VTIMEZONE
TZID:Europe/London
X-LIC-LOCATION:Europe/London
BEGIN:DAYLIGHT
DTSTART:20180325T020000
TZOFFSETFROM:+0000
TZOFFSETTO:+0100
TZNAME:BST
END:DAYLIGHT
END:VTIMEZONE
END:VCALENDAR