BEGIN:VCALENDAR
VERSION:2.0
PRODID:-//wp-events-plugin.com//7.2.3//EN
BEGIN:VEVENT
UID:109@whiteemotion.com
DTSTART:20171028T153000Z
DTEND:20171029T153000Z
DTSTAMP:20171022T233109Z
URL:https://whiteemotion.com/events/taller-de-cine-expandido-live-cinema/
SUMMARY:Taller de Cine Expandido ( Live Cinema)
DESCRIPTION:Taller de Cine Expandido ( Live Cinema)\nArchivo Maguey\, Call
 e Morelos 509 \, Oaxaca de Juarez\, OAX\, Mexico\nSábado 28 y Domingo 29 
 de Octubre\nHorario: 15.30 a 19.30 h\nNumero max de alumnos: 10\nCuota de 
 recuperación $600.00\nReserva tu plaza. Pincha aqui \n\n&nbsp\;\n\nEn es
 te taller aprenderemos varias técnicas para el el uso de el video en dire
 cto y multiproyección así como sus aplicaciones escénicas y artísticas
  ( teatro\, música\, instalaciones…) Introduciremos la historia de la i
 magen en movimiento\, el lenguaje del video y animación. Se analizarán t
 écnicamente ejemplos de trabajos profesionales\, y se explicarán los mé
 todos de creación\, poniéndose en práctica mediante ejercicios práctic
 os. El curso está orientado a las disciplinas de arte\, diseño gráfico
 \, arquitectura y otras disciplinas afines. Este nivel básico se requiere
  para talleres más especializados como videomapping\, interactividad y pr
 oyección en domos.\n\nCon el apoyo de Modul8 y MadMapper \n\n-----------
 -------------------------------------------------\n\nDía 1 -  Sábado 28
  de 15.30 a 19.30 h \n\n&nbsp\;\n\n1.- Historia del arte de la luz y la i
 magen en movimiento\n\n2. -Formatos analógicos y digitales. \n\n3.- Téc
 nicas de Live Cinema y herramientas para usar el video en directo.\n\n4.- 
 Sesión Practica con un video proyector.  \n\n&nbsp\;\n\nDía 2 - Domingo
  de 15.30 a 19.30h \n\n&nbsp\;\n\n1.- Controladores  MIDI y OSC \n\n2.-
  Ejemplos y utilización de varios video proyectores \n\n3.- Sesión Prac
 tica\n\n4.- Muestra de trabajos individual o grupos\n\n-------------------
 --------------------\n\n\n\n&nbsp\;\n\nSobre la profesora \n\n&nbsp\;\n\n
 Blanca Regina \n\n&nbsp\;\n\nBlanca Regina será artista en residencia de
 l 21 al 1 de Noviembre en Archivo Maguey.\n\nElla es artista visual\, doce
 nte y comisaria. Su trabajo se centra en la creación audiovisual y perfor
 mance\, videoarte\, arte digital con técnicas analógicas\, cine “ expa
 ndido “ e improvisación en directo. Blanca también trabaja con el dise
 ño y la publicación.\n\n&nbsp\;\n\nEntre los centros y espacios donde ha
  mostrado su trabajo se encuentran La Casa Encendida\, (España)\, Mapping
  (Ginebra)\,  Barbican (Londres) Cafe OTO (Londres) VisionR (Paris)\, Mau
 s Habitos (Oporto) Loop Videoart Festival y Galería H2O (Barcelona)\, AV:
 Academy (Moscow) y MUPO (Oaxaca\, México).\n\n&nbsp\;\n\nEn este residenc
 ia prepara varios trabajos audiovisuales con instalación y performance en
  los que aúna gráfica propia con imagen proyectada. En la performance me
 zcla la imagen a tiempo real y realiza música electronica con utilizando 
 electronica\, voz y objetos en solo o junto a artistas invitados locales.\
 n\n&nbsp\;\n\nInvitados y colaboradores incluyen Ojo de Pez\, GAM\, Lubia 
 Corres \, VJ Irving Cube\, Hexis Studio. Con el apoyo de El Ojo Peludo\, R
 amón Sanmiquel\, Tingladography y  Taller de Grabado Fernando Sandoval.\
 n\n&nbsp\;\n\nwww.whiteemotion.com
ATTACH;FMTTYPE=image/jpeg:https://whiteemotion.com/web/wp-content/uploads/
 2017/10/Tallercineexpandido1.jpg
CATEGORIES:workshop
LOCATION:Archivo Maguey\, Calle Morelos 509\, Oaxaca de Juarez\, Oaxaca\, O
 axaca\, Mexico
GEO:17.0632847;-96.72676150000001
X-APPLE-STRUCTURED-LOCATION;VALUE=URI;X-ADDRESS=Calle Morelos 509\, Oaxaca 
 de Juarez\, Oaxaca\, Oaxaca\, Mexico;X-APPLE-RADIUS=100;X-TITLE=Archivo Ma
 guey:geo:17.0632847,-96.72676150000001
END:VEVENT
END:VCALENDAR