BEGIN:VCALENDAR
VERSION:2.0
PRODID:-//wp-events-plugin.com//7.2.3//EN
BEGIN:VEVENT
UID:131@whiteemotion.com
DTSTART;TZID=Europe/London:20180713T000000
DTEND;TZID=Europe/London:20180713T200000
DTSTAMP:20180702T113719Z
URL:https://whiteemotion.com/events/temporalities-third-anniversary-of-cha
 lton-gallery/
SUMMARY:Temporalities: Third Anniversary of Chalton Gallery.
DESCRIPTION:Blanca Regina\, Steve Beresford and Pierre Bouvier Patron have 
 performed at Chalton gallery several times since it opened and are very ha
 ppy to be participating in the third anniversary celebrations.\n\nTheir pr
 oject Unpredictable Series will be presenting a pop-up with books\, prints
  and music.\n\nThey will be bringing a variety of electronic and non-elect
 ronic items to create music with\, and Blanca is very likely to also use h
 er voice\, perhaps processing it electronically. Their short duo will be a
 t 3pm.\n\nLater\, at 5pm\, Blanca will introduce the Moon Oracle in a part
 icipatory performance with Pierre Bouvier Patron on visuals.\nwww.unpredic
 table.info
ATTACH;FMTTYPE=image/jpeg:https://whiteemotion.com/web/wp-content/uploads/
 2013/11/386150_10150501661616518_688211517_10587558_1694775816_n.jpg
LOCATION:Chalton Gallery\, 96 Chalton Street\, London \, NW1 1HJ\, United K
 ingdom
GEO:51.5308281;-0.13117779999993218
X-APPLE-STRUCTURED-LOCATION;VALUE=URI;X-ADDRESS=96 Chalton Street\, London 
 \, NW1 1HJ\, United Kingdom;X-APPLE-RADIUS=100;X-TITLE=Chalton Gallery:geo
 :51.5308281,-0.13117779999993218
END:VEVENT
BEGIN:VTIMEZONE
TZID:Europe/London
X-LIC-LOCATION:Europe/London
BEGIN:DAYLIGHT
DTSTART:20180325T020000
TZOFFSETFROM:+0000
TZOFFSETTO:+0100
TZNAME:BST
END:DAYLIGHT
END:VTIMEZONE
END:VCALENDAR