BEGIN:VCALENDAR
VERSION:2.0
PRODID:-//wp-events-plugin.com//7.2.3//EN
BEGIN:VEVENT
UID:42@whiteemotion.com
DTSTART:20150605T183000Z
DTEND:20150611T223000Z
DTSTAMP:20150601T160113Z
URL:https://whiteemotion.com/events/terry-day-solo-visual-art-and-music-sh
 ow/
SUMMARY:Terry Day solo visual art and music show
DESCRIPTION:\n\n\n\nPrivate View: FRIDAY 5th JUNE: From 6.30pm until 10\,3
 0 pm \nTerry Day solo visual art and music show\nOld Paradise Yard' 20 Ca
 rlisle Lane\, Lambeth North\, SE1 7LG London\n\n\n\n\n\n\nAs part of the 
 ‘Unpredictable Series’ we present ’ Terry Day solo visual art and mu
 sic show’ from the 5th of June until the 11th of June 2015 at Iklectik A
 rt Lab in London.\n\nThe exhibition will feature previously unseen artwork
  by the musician and artist Terry Day\, including paintings\, miniatures\,
  and more.\n\nIt also features performances every day\, a talk\, and extra
 cts of the film ‘Unpredictable’.\n\nTERRY DAY is an improviser\, multi
 -instrumentalist\, lyricist\, songwriter\, visual artist and poet: a first
  generation pioneer improviser from the 1960s. He formed a duo with Derek 
 Bailey in the late '60s and was a regular member of The Continuous Music E
 nsemble\, People Band and\, later on\, Alterations with Toop\, Beresford &
 amp\; Pete Cusack. Since then he has collaborated with numerous artists.\n
 \nhttp://www.terryday.co.uk/\n\nCurator Blanca Regina. Advisor: Steve Bere
 sford\n\n- SCHEDULE:\n5th of June to 11th of May\nOpening times: 10 am - 1
 0pm\nPerformances: 7pm - 10pm\n(suggested donation £ 5)\nTalk: 4pm- 6pm\n
 Private view: 6pm - 10pm\n\n- FRIDAY 5th JUNE:\nPRIVATE VIEW- From 6.30pm 
 until 10\,30 pm\nPERFORMANCE at 8.00 pm\nFeaturing two duos:\nJOHN BUTCHER
  and TERRY DAY\nALISON BLUNT and DAVID LEAHY\nwho will then play as a quar
 tet\n\n- SATURDAY 6th JUNE\nTALK - From 4pm until 6pm -\n‘Terry Day\, Wa
 lthamstow Art School 61-63 and RCA 63-66’\nSpeakers: David Parfitt\, Lau
 rie Lewis\, Helen Frayling and Terry Day.\n\nTerry Day and guests will dis
 cuss the role both art schools played in creating spaces and hubs for arti
 sts.This was a period in which Terry Day represented music and connected m
 usicians and artists. They created hubs and cross pollination of art forms
  by offering an insight into alternative and new approaches outside the ex
 isting system.\n\nSPEAKERS\nDAVID PARFITT lives and works beside the Thame
 s in West London. Here he paints portraits\, and also the tidal Thames wit
 h its bridges and tower blocks\, the towpath and the foreshore.\nHe studie
 d painting and drawing at Newport College of Art 1959 - 1963 and at the Ro
 yal College of Art 1963 - 1966. He has taught in many art schools\, includ
 ing the Royal Academy. He exhibits regularly in NEAC Members exhibitions a
 t the Mall Galleries\, The Mall\, London SW1.\n\nHELEN FRAYLING studied Fa
 shion and Fine Art at Walthamstow in the late 1950s and early 1960s\, when
  she was Helen Goodrich\, followed by Painting at the Royal Academy School
 s. After ten years teaching in various Art Colleges\, she was awarded an M
 A at the RCA in 1979\, with a thesis on the increasng importance of crafts
 manship. Since then\, she has combined teaching in England with exhibiting
  her paintings in the West of Ireland. In 2000\, she became Lady Frayling.
 \n\nFABIEN PEAKE AND JIM IVES\nFree. Book online at unpredictable@whiteemo
 tion.com\n\nPERFORMANCE at 8.00pm\nFeaturing a trio:\nBEIBEI WANG\nPAT THO
 MAS\nTERRY DAY\n\n- SUNDAY 7th June\n\nPERFORMANCE at 8.00pm\nFeaturing tw
 o duos and a trio:\nDOUGLAS BENFORD &amp\; BEIBEI WANG\nHANNAH MARSHALL &a
 mp\; TERRY DAY\nSATOKO FUKUDA\, TERRY DAY &amp\; HANNAH MARSHALL\n\n- MOND
 AY 8th June\nPERFORMANCE at 8.00pm\nFeaturing a trio:\nEVAN PARKER\nJOHN E
 DWARDS\nTERRY DAY\n\n- WEDNESDAY 10th June\nPERFORMANCE at 8.00pm\nFeaturi
 ng ALTERATIONS\nSTEVE BERESFORD\nPETER CUSACK\nTERRY DAY\nDAVID TOOP\n\n- 
 THURSDAY 11th June\nOpen editing session of the film ‘Unpredictable’ w
 ith Blanca Regina and Pierre Bouvier Patron.\nTIme: 5-7 pm\n\nMore informa
 tion at www.unpredictable.info\nBookings at unpredictable@whiteemotion.com
ATTACH;FMTTYPE=image/jpeg:https://whiteemotion.com/web/wp-content/uploads/
 2015/06/terrysoloshow1.jpg
CATEGORIES:Concert,curating,Event
LOCATION:I'Klectik\, 20 Carlisle Lane\, London\, London\, SE1-7LG\, United 
 Kingdom
GEO:51.4975713;-0.11525879999999233
X-APPLE-STRUCTURED-LOCATION;VALUE=URI;X-ADDRESS=20 Carlisle Lane\, London\,
  London\, SE1-7LG\, United Kingdom;X-APPLE-RADIUS=100;X-TITLE=I'Klectik:ge
 o:51.4975713,-0.11525879999999233
END:VEVENT
END:VCALENDAR