BEGIN:VCALENDAR
VERSION:2.0
PRODID:-//wp-events-plugin.com//7.2.3//EN
BEGIN:VEVENT
UID:153@whiteemotion.com
DTSTART;TZID=Europe/London:20191026T000000
DTEND;TZID=Europe/London:20191027T180000
DTSTAMP:20191008T145925Z
URL:https://whiteemotion.com/events/videomapping-workshop-narrating-struct
 ures/
SUMMARY:Videomapping Workshop: Narrating structures (PC & MAC supported)
DESCRIPTION:Narrating Structures: Videomapping Workshop\nDates: Saturday 26
 th (12pm to 18pm) &amp\; Sunday 27th (11am to 17pm) of October 2019\nLocat
 ion: IKLECTIK\n‘Old Paradise Yard ‘ 20 Carlisle Ln \, Waterloo\, Londo
 n SE1 7LG\nStudent fee: £140 (Max nº of students: 10)\nRegister\n\n\n\n
 ‘Narrating Structures’ is an intensive workshop where we introduce pro
 jection mapping. We will look at diverse techniques for the production of 
 audiovisual projects in architectural spaces and objects and also its appl
 ication in artistic and creative practice.This workshop is for artists\, g
 raphic designers\, architects and anybody interested.\nThe workshop is sup
 ported by Madmapper includes a free 30-day full access\n\nPROGRAMME\nThe 2
  day workshop is divided in 6 sections:\n1st Session &gt\;&gt\;\n1- Introd
 uction to the mentor and presentation of their work in this field.\n2- Stu
 dy of multiple videomapping projects.\n3- Learning multiple techniques and
  applying them using the different spaces and structures.\n2nd Session &gt
 \;&gt\;\n1- Projection mapping on different surfaces.\n2- Presentation on 
 methods and tips for visual content production.\n3- Creation and presentat
 ion of a specific group project.\n\nAt the end of this workshop you will b
 e able to:\n- Create various projections simultaneously\n- Shape light int
 o objects and spaces\n- Project management and networking with local and i
 nternational communities.\n\nTECHNICAL REQUIREMENTS:\nBring your own compu
 ter. Pc and Mac supported. Mac 10.6 is not supported.\nYou can bring also 
 If you have\, midi controller\, projector\, model/shape you want to map on
 \, DMX controller (Artnet\, Enttec or minimad)\n\nMENTOR &gt\;&gt\;&gt\; B
 lanca Regina . www.whiteemotion\nDr. Blanca Regina Pérez-Bustamante is a
 n educator\, artist and curator\, based in London.\nShe is involved in cre
 ating mixed media performances\, installations and film and is currently t
 eaching at the School of Fine Arts and Music in the University of Kent.\nH
 er research and practice encompass expanded cinema\, free improvisation\, 
 moving image\, photography and audiovisual performance. She has published 
 various texts and conducted several workshops and talks internationally fo
 cusing on Audiovisual\, New Media and Performance Art (Universidad de Puer
 to Rico\, University of Canterbury\, Goldsmiths University\, Festival Inte
 rnacional de Cine de las Palmas\, La Creación Electrónica\, La Casa En
 cendida) and she has presented several conferences with AVAcademy in Mosco
 w and St. Petersburg (Russia).\nShe is also curator. In 2012\, with Steve 
 Beresford\, she started Strange Umbrellas\, a platform for free improvised
  music and visual art. Her performances include collaborations with artist
 s such as Leafcutter John\, Steve Beresford and Matthias Kispert. Last wor
 ks include Unpredictable\, a film about musician and artist Terry Day. She
  recently presented a mayor exhibition in Mexico called ‘ Ephemera and E
 xpanded Audiovisuals.’
ATTACH;FMTTYPE=image/jpeg:https://whiteemotion.com/web/wp-content/uploads/
 2018/10/29167059293_0c07bd2e93_k.jpg
CATEGORIES:Event
LOCATION:IKLECTIK\, 20 Carlisle Lane\, London\, London\, SE1-7LG\, United K
 ingdom
GEO:51.4984523;-0.11654580000003989
X-APPLE-STRUCTURED-LOCATION;VALUE=URI;X-ADDRESS=20 Carlisle Lane\, London\,
  London\, SE1-7LG\, United Kingdom;X-APPLE-RADIUS=100;X-TITLE=IKLECTIK:geo
 :51.4984523,-0.11654580000003989
END:VEVENT
BEGIN:VTIMEZONE
TZID:Europe/London
X-LIC-LOCATION:Europe/London
BEGIN:DAYLIGHT
DTSTART:20190331T020000
TZOFFSETFROM:+0000
TZOFFSETTO:+0100
TZNAME:BST
END:DAYLIGHT
BEGIN:STANDARD
DTSTART:20191027T010000
TZOFFSETFROM:+0100
TZOFFSETTO:+0000
TZNAME:GMT
END:STANDARD
END:VTIMEZONE
END:VCALENDAR